BEGIN:VCALENDAR
VERSION:2.0
PRODID:-//wp-events-plugin.com//7.2.3.1//EN
TZID:Europe/Paris
X-WR-TIMEZONE:Europe/Paris
BEGIN:VEVENT
UID:1@massy.farm
DTSTART;TZID=Europe/Paris;VALUE=DATE:20231229
DTEND;TZID=Europe/Paris;VALUE=DATE:20231230
DTSTAMP:20231221T111126Z
URL:https://massy.farm/events/test-evenement-payant-woocommerce/
SUMMARY:Test évenement
DESCRIPTION:blalabla test
ATTACH;FMTTYPE=image/jpeg:https://massy.farm/wp-content/uploads/2023/04/40
 0093-taille-tonnelle-arbre-intro-main-14666817.jpg
LOCATION:Cuisine de l'APMV\, 22 allée albert thomas\, Massy\, 91300\, Fran
 ce
X-APPLE-STRUCTURED-LOCATION;VALUE=URI;X-ADDRESS=22 allée albert thomas\, M
 assy\, 91300\, France;X-APPLE-RADIUS=100;X-TITLE=Cuisine de l'APMV:geo:0,0
END:VEVENT
BEGIN:VTIMEZONE
TZID:Europe/Paris
X-LIC-LOCATION:Europe/Paris
BEGIN:STANDARD
DTSTART:20231029T020000
TZOFFSETFROM:+0200
TZOFFSETTO:+0100
TZNAME:CET
END:STANDARD
END:VTIMEZONE
END:VCALENDAR