BEGIN:VCALENDAR
VERSION:2.0
PRODID:-//wp-events-plugin.com//7.2.3.1//EN
TZID:Europe/Paris
X-WR-TIMEZONE:Europe/Paris
BEGIN:VEVENT
UID:6@massy.farm
DTSTART;TZID=Europe/Paris:20240127T123000
DTEND;TZID=Europe/Paris:20240127T123000
DTSTAMP:20240124T144655Z
URL:https://massy.farm/events/repas-partage-27-janvier/
SUMMARY:Tartes feu de bois (midi)
DESCRIPTION:Réservez votre repas chaud servi sur place
ATTACH;FMTTYPE=image/jpeg:https://massy.farm/wp-content/uploads/2023/12/Cu
 isine-300x300-1.png
LOCATION:Ferme\, rond-point Allende\, Massy \, france\, 91300\, France
X-APPLE-STRUCTURED-LOCATION;VALUE=URI;X-ADDRESS=rond-point Allende\, Massy 
 \, france\, 91300\, France;X-APPLE-RADIUS=100;X-TITLE=Ferme:geo:0,0
END:VEVENT
BEGIN:VTIMEZONE
TZID:Europe/Paris
X-LIC-LOCATION:Europe/Paris
BEGIN:STANDARD
DTSTART:20231029T020000
TZOFFSETFROM:+0200
TZOFFSETTO:+0100
TZNAME:CET
END:STANDARD
END:VTIMEZONE
END:VCALENDAR