BEGIN:VCALENDAR
VERSION:2.0
PRODID:-//wp-events-plugin.com//7.2.3.1//EN
TZID:Europe/Paris
X-WR-TIMEZONE:Europe/Paris
BEGIN:VEVENT
UID:11@massy.farm
DTSTART;TZID=Europe/Paris:20250125T103000
DTEND;TZID=Europe/Paris:20250125T163000
DTSTAMP:20241203T101123Z
URL:https://massy.farm/events/fabriquer-sa-biere-formation-25-janvier-2025
 /
SUMMARY:Fabriquer sa bière (Formation du 25 janvier 2025)
DESCRIPTION:Une journée pour apprendre à brasser sa bière en réalisant 
 une bière expérimentale de type "lager" à fermentation lente\, sous la 
 houlette de Guillaume de la brasserie O’Massy Pale.
ATTACH;FMTTYPE=image/jpeg:https://massy.farm/wp-content/uploads/2024/11/br
 asserie_detail.jpg
LOCATION:Petite Ferme de Massy\, Rdpt du Président Allende\, Rue de Mignea
 ux\, Massy\, Essonne\, 91300\, France
X-APPLE-STRUCTURED-LOCATION;VALUE=URI;X-ADDRESS=Rdpt du Président Allende\
 , Rue de Migneaux\, Massy\, Essonne\, 91300\, France;X-APPLE-RADIUS=100;X-
 TITLE=Petite Ferme de Massy:geo:0,0
END:VEVENT
BEGIN:VTIMEZONE
TZID:Europe/Paris
X-LIC-LOCATION:Europe/Paris
BEGIN:STANDARD
DTSTART:20241027T020000
TZOFFSETFROM:+0200
TZOFFSETTO:+0100
TZNAME:CET
END:STANDARD
END:VTIMEZONE
END:VCALENDAR