BEGIN:VCALENDAR
VERSION:2.0
PRODID:-//wp-events-plugin.com//7.2.3.1//EN
TZID:Europe/Paris
X-WR-TIMEZONE:Europe/Paris
BEGIN:VEVENT
UID:10@massy.farm
DTSTART;TZID=Europe/Paris:20241214T100000
DTEND;TZID=Europe/Paris:20241214T170000
DTSTAMP:20241128T224354Z
URL:https://massy.farm/events/autour-de-la-fermentation-journee-diy/
SUMMARY:Ateliers autour de la fermentation (Journée DIY)
DESCRIPTION:Journée DIY autour des boissons fermentées et de la lactoferm
 entation - Fabrication d'un broyeur et d'un pressoir à cidre.
ATTACH;FMTTYPE=image/jpeg:https://massy.farm/wp-content/uploads/2024/11/ch
 ou-lacto-fermente-choucroute-1024x576-1.webp
LOCATION:Petite Ferme de Massy\, Rdpt du Président Allende\, Rue de Mignea
 ux\, Massy\, Essonne\, 91300\, France
X-APPLE-STRUCTURED-LOCATION;VALUE=URI;X-ADDRESS=Rdpt du Président Allende\
 , Rue de Migneaux\, Massy\, Essonne\, 91300\, France;X-APPLE-RADIUS=100;X-
 TITLE=Petite Ferme de Massy:geo:0,0
END:VEVENT
BEGIN:VTIMEZONE
TZID:Europe/Paris
X-LIC-LOCATION:Europe/Paris
BEGIN:STANDARD
DTSTART:20241027T020000
TZOFFSETFROM:+0200
TZOFFSETTO:+0100
TZNAME:CET
END:STANDARD
END:VTIMEZONE
END:VCALENDAR