BEGIN:VCALENDAR
VERSION:2.0
PRODID:-//wp-events-plugin.com//7.2.3.1//EN
TZID:Europe/Paris
X-WR-TIMEZONE:Europe/Paris
BEGIN:VEVENT
UID:8@massy.farm
DTSTART;TZID=Europe/Paris:20240303T093000
DTEND;TZID=Europe/Paris:20240303T170000
DTSTAMP:20240222T111716Z
URL:https://massy.farm/events/atelier-greffage-2/
SUMMARY:Formation Greffage des petits fruitiers
DESCRIPTION:Comprendre le greffage et pratiquer le geste ancestral de la gr
 effe (Massy\, Villebon)
ATTACH;FMTTYPE=image/jpeg:https://massy.farm/wp-content/uploads/2024/01/we
 b-greffage-7-scaled.jpg
END:VEVENT
BEGIN:VTIMEZONE
TZID:Europe/Paris
X-LIC-LOCATION:Europe/Paris
BEGIN:STANDARD
DTSTART:20231029T020000
TZOFFSETFROM:+0200
TZOFFSETTO:+0100
TZNAME:CET
END:STANDARD
END:VTIMEZONE
END:VCALENDAR