BEGIN:VCALENDAR
VERSION:2.0
PRODID:-//wp-events-plugin.com//7.2.3.1//EN
TZID:Europe/Paris
X-WR-TIMEZONE:Europe/Paris
BEGIN:VEVENT
UID:3@massy.farm
DTSTART;TZID=Europe/Paris:20240105T000000
DTEND;TZID=Europe/Paris:20240105T010000
DTSTAMP:20231209T191347Z
URL:https://massy.farm/events/atelier-cuisine/
SUMMARY:Atelier cuisine
DESCRIPTION:
ATTACH;FMTTYPE=image/jpeg:https://massy.farm/wp-content/uploads/2023/03/cr
 opped-image06.png
LOCATION:Ferme\, rond-point Allende\, Massy \, france\, 91300\, France
X-APPLE-STRUCTURED-LOCATION;VALUE=URI;X-ADDRESS=rond-point Allende\, Massy 
 \, france\, 91300\, France;X-APPLE-RADIUS=100;X-TITLE=Ferme:geo:0,0
END:VEVENT
BEGIN:VTIMEZONE
TZID:Europe/Paris
X-LIC-LOCATION:Europe/Paris
BEGIN:STANDARD
DTSTART:20231029T020000
TZOFFSETFROM:+0200
TZOFFSETTO:+0100
TZNAME:CET
END:STANDARD
END:VTIMEZONE
END:VCALENDAR